BEGIN:VCALENDAR
VERSION:2.0
PRODID:-//2SP - ECPv6.1.3//NONSGML v1.0//EN
CALSCALE:GREGORIAN
METHOD:PUBLISH
X-ORIGINAL-URL:https://www.2spbrewing.com
X-WR-CALDESC:Events for 2SP
REFRESH-INTERVAL;VALUE=DURATION:PT1H
X-Robots-Tag:noindex
X-PUBLISHED-TTL:PT1H
BEGIN:VTIMEZONE
TZID:UTC
BEGIN:STANDARD
TZOFFSETFROM:+0000
TZOFFSETTO:+0000
TZNAME:UTC
DTSTART:20230101T000000
END:STANDARD
END:VTIMEZONE
BEGIN:VEVENT
DTSTART;TZID=UTC:20231102T150000
DTEND;TZID=UTC:20231102T210000
DTSTAMP:20260419T124222
CREATED:20231019T165738Z
LAST-MODIFIED:20231019T165738Z
UID:2499-1698937200-1698958800@www.2spbrewing.com
SUMMARY:Coffee Stouts Release Party
DESCRIPTION:International Stout Day?\nHeard.\n\nWe’re buzzing over here to collaborate with our buds at Herman’s Coffee in Philly and Little Goat Coffee in Newark\, DE again this year. \nWe’ll have samples of the coffee used in this year’s brews along with bags of their expertly roasted beans for purchase right here in the tasting room. \nStay tuned to our socials for other updates coming your way!
URL:https://www.2spbrewing.com/event/coffee-stouts-release-party/
END:VEVENT
BEGIN:VEVENT
DTSTART;TZID=UTC:20231118T130000
DTEND;TZID=UTC:20231118T150000
DTSTAMP:20260419T124222
CREATED:20231107T190215Z
LAST-MODIFIED:20231107T191329Z
UID:2517-1700312400-1700319600@www.2spbrewing.com
SUMMARY:Birds Sip n' Stitch
DESCRIPTION:We’re continuing our love of Arts and Drafts with our new friends from Sippin & Stitchin !\n\nCome sip & stitch a lil’ something to show your Philly pride. join us on Saturday\, November 18th. this event is suited for beginner and seasoned stitchers alike!\nTickets must be purchased in advance. Each ticket includes:\n-an embroidery kit: 5 x 8” premium oval hoop\, fabric printed with an easy-to-follow pattern\, FOUR variations of embroidery thread\, needle and needle-threader in a canvas bag (all yours to keep!)\n-two hours of guidance\n-access to all supplies needed to stitch up your own version of philly’s favorite mascot\n-a small amount of discounted “early bird” tix are available while they last\n\nPurchase Tickets Here!
URL:https://www.2spbrewing.com/event/birds-sip-n-stitch/
ATTACH;FMTTYPE=image/jpeg:https://www.2spbrewing.com/wp-content/uploads/2023/11/Sippin-Stitchin-Post-1.jpg
END:VEVENT
BEGIN:VEVENT
DTSTART;TZID=UTC:20231118T160000
DTEND;TZID=UTC:20231118T190000
DTSTAMP:20260419T124222
CREATED:20231114T162346Z
LAST-MODIFIED:20231114T162642Z
UID:2532-1700323200-1700334000@www.2spbrewing.com
SUMMARY:Smokin' Joe Duo at 2SP
DESCRIPTION:
URL:https://www.2spbrewing.com/event/smokin-joe-duo-at-2sp/
ATTACH;FMTTYPE=image/jpeg:https://www.2spbrewing.com/wp-content/uploads/2023/11/Smokin-Joe-Post.jpg
END:VEVENT
END:VCALENDAR