BEGIN:VCALENDAR
VERSION:2.0
PRODID:-//2SP - ECPv6.1.3//NONSGML v1.0//EN
CALSCALE:GREGORIAN
METHOD:PUBLISH
X-ORIGINAL-URL:https://www.2spbrewing.com
X-WR-CALDESC:Events for 2SP
REFRESH-INTERVAL;VALUE=DURATION:PT1H
X-Robots-Tag:noindex
X-PUBLISHED-TTL:PT1H
BEGIN:VTIMEZONE
TZID:UTC
BEGIN:STANDARD
TZOFFSETFROM:+0000
TZOFFSETTO:+0000
TZNAME:UTC
DTSTART:20230101T000000
END:STANDARD
END:VTIMEZONE
BEGIN:VEVENT
DTSTART;TZID=UTC:20231028T120000
DTEND;TZID=UTC:20231028T220000
DTSTAMP:20260419T202635
CREATED:20231016T220048Z
LAST-MODIFIED:20231022T224442Z
UID:2491-1698494400-1698530400@www.2spbrewing.com
SUMMARY:Howl-o-Ween at 2SP Boo-ery
DESCRIPTION:Hey Delco – we’ve got some sweet and scary fun for you and your furry family!\n\nJoin us for an all treats Yappy Hour for you to show off your Pirate Pittie\, Wizard Westie\, or Doctor Dachshund.\n– $4 All Weather pints from 12:00-3:00\n– A free gourmet dog treat for all pups from our friends at Sloppy Plate\n– A fun photo op for your matching costumes\n– Prizes for the best dressed pups!\nWe’re also collecting items for our neighbors at Rags 2 Riches Rescue right here in Delco. We’ll be accepting donations of the following most needed items for their rescue on Saturday:\nPaper towels\nBleach\nFabuloso\nLysol\nDog treats\ndog bones (Nylabones) and bully sticks)\nDog toys\nCat food\n\n\n\n\n\nStick around for an all day scary movie marathon with the sound way up in the brewery warehouse – we’ve got the candy covered and Humpty’s Dumplings will be here for the rest! \n \n*All dog friendly people and people friendly\, leashed dogs are welcome!\n*We will be showing all movies in full\, without edits. Only sound in the brewery warehouse
URL:https://www.2spbrewing.com/event/howl-o-ween-at-2sp-boo-ery/
ATTACH;FMTTYPE=image/jpeg:https://www.2spbrewing.com/wp-content/uploads/2023/10/Boo-ery-Post.jpg
END:VEVENT
BEGIN:VEVENT
DTSTART;TZID=UTC:20231031T150000
DTEND;TZID=UTC:20231031T180000
DTSTAMP:20260419T202635
CREATED:20231030T004903Z
LAST-MODIFIED:20231030T004903Z
UID:2510-1698764400-1698775200@www.2spbrewing.com
SUMMARY:Halloween
DESCRIPTION:LIMITED HOURS \n3:00-6:00
URL:https://www.2spbrewing.com/event/halloween-2/
END:VEVENT
END:VCALENDAR