BEGIN:VCALENDAR
VERSION:2.0
PRODID:-//2SP - ECPv6.1.3//NONSGML v1.0//EN
CALSCALE:GREGORIAN
METHOD:PUBLISH
X-ORIGINAL-URL:https://www.2spbrewing.com
X-WR-CALDESC:Events for 2SP
REFRESH-INTERVAL;VALUE=DURATION:PT1H
X-Robots-Tag:noindex
X-PUBLISHED-TTL:PT1H
BEGIN:VTIMEZONE
TZID:UTC
BEGIN:STANDARD
TZOFFSETFROM:+0000
TZOFFSETTO:+0000
TZNAME:UTC
DTSTART:20230101T000000
END:STANDARD
END:VTIMEZONE
BEGIN:VEVENT
DTSTART;VALUE=DATE:20230703
DTEND;VALUE=DATE:20230705
DTSTAMP:20260422T083329
CREATED:20230620T151612Z
LAST-MODIFIED:20230620T151612Z
UID:2326-1688342400-1688515199@www.2spbrewing.com
SUMMARY:4th of July
DESCRIPTION:CLOSED Monday 7.3 and Tuesday 7.4
URL:https://www.2spbrewing.com/event/4th-of-july/
END:VEVENT
BEGIN:VEVENT
DTSTART;TZID=UTC:20230714T150000
DTEND;TZID=UTC:20230714T210000
DTSTAMP:20260422T083329
CREATED:20230712T224528Z
LAST-MODIFIED:20230712T224657Z
UID:2341-1689346800-1689368400@www.2spbrewing.com
SUMMARY:610 Wit Release
DESCRIPTION:Mobile Mess Hall food truck and live music from Rick Choate Acoustic 5:00-8:00
URL:https://www.2spbrewing.com/event/610-wit-release/
ATTACH;FMTTYPE=image/jpeg:https://www.2spbrewing.com/wp-content/uploads/2023/07/610-Teaser-Post.jpg
END:VEVENT
BEGIN:VEVENT
DTSTART;TZID=UTC:20230714T170000
DTEND;TZID=UTC:20230714T200000
DTSTAMP:20260422T083329
CREATED:20230519T193835Z
LAST-MODIFIED:20230519T193835Z
UID:2290-1689354000-1689364800@www.2spbrewing.com
SUMMARY:Live Music with Rick Choate Acoustic
DESCRIPTION:
URL:https://www.2spbrewing.com/event/live-music-with-rick-choate-acoustic-3/
END:VEVENT
BEGIN:VEVENT
DTSTART;TZID=UTC:20230720T150000
DTEND;TZID=UTC:20230720T210000
DTSTAMP:20260422T083329
CREATED:20230712T224937Z
LAST-MODIFIED:20230712T224937Z
UID:2349-1689865200-1689886800@www.2spbrewing.com
SUMMARY:PA Day
DESCRIPTION:Guest taps while supplies last from some of our PA friends – plus Rolling Phatties
URL:https://www.2spbrewing.com/event/pa-day/
ATTACH;FMTTYPE=image/jpeg:https://www.2spbrewing.com/wp-content/uploads/2023/07/PA-Day-Post.jpg
END:VEVENT
END:VCALENDAR