BEGIN:VCALENDAR
VERSION:2.0
PRODID:-//2SP - ECPv6.1.3//NONSGML v1.0//EN
CALSCALE:GREGORIAN
METHOD:PUBLISH
X-ORIGINAL-URL:https://www.2spbrewing.com
X-WR-CALDESC:Events for 2SP
REFRESH-INTERVAL;VALUE=DURATION:PT1H
X-Robots-Tag:noindex
X-PUBLISHED-TTL:PT1H
BEGIN:VTIMEZONE
TZID:UTC
BEGIN:STANDARD
TZOFFSETFROM:+0000
TZOFFSETTO:+0000
TZNAME:UTC
DTSTART:20230101T000000
END:STANDARD
END:VTIMEZONE
BEGIN:VEVENT
DTSTART;TZID=UTC:20230609T170000
DTEND;TZID=UTC:20230609T200000
DTSTAMP:20260422T215136
CREATED:20230519T193620Z
LAST-MODIFIED:20230519T193620Z
UID:2288-1686330000-1686340800@www.2spbrewing.com
SUMMARY:Live Music with Rick Choate Acoustic
DESCRIPTION:
URL:https://www.2spbrewing.com/event/live-music-with-rick-choate-acoustic-2/
END:VEVENT
BEGIN:VEVENT
DTSTART;TZID=UTC:20230610T120000
DTEND;TZID=UTC:20230610T220000
DTSTAMP:20260422T215136
CREATED:20230602T140459Z
LAST-MODIFIED:20230602T140459Z
UID:2310-1686398400-1686434400@www.2spbrewing.com
SUMMARY:6.10 Delco Day
DESCRIPTION:
URL:https://www.2spbrewing.com/event/6-10-delco-day-2/
ATTACH;FMTTYPE=image/jpeg:https://www.2spbrewing.com/wp-content/uploads/2023/06/Delco-Day-TV-Slide.jpg
END:VEVENT
BEGIN:VEVENT
DTSTART;TZID=UTC:20230618T120000
DTEND;TZID=UTC:20230618T160000
DTSTAMP:20260422T215136
CREATED:20230602T194719Z
LAST-MODIFIED:20230602T194720Z
UID:2318-1687089600-1687104000@www.2spbrewing.com
SUMMARY:Dads & Bags
DESCRIPTION:Nothing is more Dad that tossing bags and drinking beers.\nWe teamed up with our buds from HeyDay Athletics to host a cornhole tournament to celebrate dad! \n$30 per team gets you: \n\n$4 All Weather pints during the games\nHeyDay Athletic t-shirt for each player\n\n1st Place: $100 2SP Gift Card + 2SP swag\n2nd Place: $50 2SP Gift Card + 2SP swag \nAll teams must be registered to participate in the tournament – register here – 
URL:https://www.2spbrewing.com/event/dads-bags-2/
ATTACH;FMTTYPE=image/jpeg:https://www.2spbrewing.com/wp-content/uploads/2023/06/Dads-Bags-Post.jpg
END:VEVENT
BEGIN:VEVENT
DTSTART;TZID=UTC:20230629T150000
DTEND;TZID=UTC:20230629T210000
DTSTAMP:20260422T215136
CREATED:20230622T180152Z
LAST-MODIFIED:20230623T163000Z
UID:2330-1688050800-1688072400@www.2spbrewing.com
SUMMARY:Sidestream Release
DESCRIPTION:We’re gonna need a bigger cooler…\n  \nOn draft and in cans on Thursday 6.29
URL:https://www.2spbrewing.com/event/sidestream-release/
ATTACH;FMTTYPE=image/jpeg:https://www.2spbrewing.com/wp-content/uploads/2023/06/IMG_20230622_135224_579.jpg
END:VEVENT
END:VCALENDAR