BEGIN:VCALENDAR
VERSION:2.0
PRODID:-//2SP - ECPv6.1.3//NONSGML v1.0//EN
CALSCALE:GREGORIAN
METHOD:PUBLISH
X-WR-CALNAME:2SP
X-ORIGINAL-URL:https://www.2spbrewing.com
X-WR-CALDESC:Events for 2SP
REFRESH-INTERVAL;VALUE=DURATION:PT1H
X-Robots-Tag:noindex
X-PUBLISHED-TTL:PT1H
BEGIN:VTIMEZONE
TZID:UTC
BEGIN:STANDARD
TZOFFSETFROM:+0000
TZOFFSETTO:+0000
TZNAME:UTC
DTSTART:20230101T000000
END:STANDARD
END:VTIMEZONE
BEGIN:VEVENT
DTSTART;TZID=UTC:20230210T150000
DTEND;TZID=UTC:20230212T170000
DTSTAMP:20260423T145733
CREATED:20230203T183712Z
LAST-MODIFIED:20230209T192506Z
UID:2192-1676041200-1676221200@www.2spbrewing.com
SUMMARY:Heavy Hearts Weekend
DESCRIPTION:Skip the stuffy dinner plans and bring your sweetie over to Aston for Valentine’s done the Delco way!\n\n\nWe’ll have a 3 treat flight from our buds at Spite.Pizza.Pastry. paired with 3 drafts including a new release from the crazy mind of our bearded Valentine – Cherry Cordial Russian. Rich\, boozy\, sweet\, and a little tart.\nWhile supplies last you and your Valentine\, your Galentine\, or yourself can enjoy a flight including Cherry Cordial Russian\, Cabernet Cask aged Big Sleep\, and a brief return of Pony Gurl ! \n\n\n\n\n\nBourbon Russian Infused Bundt Cake with Cherry Compote and Chocolate Ganache paired with Cherry Cordial Russian\nOatmeal Crumb Blueberry $hortjawn with Lemon Drizzle paired with Pony Gurl\nDark Chocolate Heart with Raspberry Drizzle paired with Wine Barrel Aged Big Sleep
URL:https://www.2spbrewing.com/event/heavy-hearts-weekend/
ATTACH;FMTTYPE=image/jpeg:https://www.2spbrewing.com/wp-content/uploads/2023/01/Heavy-Hearts-Post.jpg
END:VEVENT
BEGIN:VEVENT
DTSTART;TZID=UTC:20230212T120000
DTEND;TZID=UTC:20230212T170000
DTSTAMP:20260423T145733
CREATED:20230115T170542Z
LAST-MODIFIED:20230203T183446Z
UID:2175-1676203200-1676221200@www.2spbrewing.com
SUMMARY:Super Bowl Sunday
DESCRIPTION:Open 12:00-5:00 \nB.Y.O.F. \nSelect $10 4 & 6 packs to go!
URL:https://www.2spbrewing.com/event/super-bowl-sunday/
ATTACH;FMTTYPE=image/jpeg:https://www.2spbrewing.com/wp-content/uploads/2023/01/2SPDroneShowBob.jpg
END:VEVENT
END:VCALENDAR