BEGIN:VCALENDAR
VERSION:2.0
PRODID:-//2SP - ECPv6.1.3//NONSGML v1.0//EN
CALSCALE:GREGORIAN
METHOD:PUBLISH
X-ORIGINAL-URL:https://www.2spbrewing.com
X-WR-CALDESC:Events for 2SP
REFRESH-INTERVAL;VALUE=DURATION:PT1H
X-Robots-Tag:noindex
X-PUBLISHED-TTL:PT1H
BEGIN:VTIMEZONE
TZID:UTC
BEGIN:STANDARD
TZOFFSETFROM:+0000
TZOFFSETTO:+0000
TZNAME:UTC
DTSTART:20260101T000000
END:STANDARD
END:VTIMEZONE
BEGIN:VEVENT
DTSTART;TZID=UTC:20260424T170000
DTEND;TZID=UTC:20260424T200000
DTSTAMP:20260421T221851
CREATED:20260409T195432Z
LAST-MODIFIED:20260409T195432Z
UID:4530-1777050000-1777060800@www.2spbrewing.com
SUMMARY:Live Music: Sam & Skyler
DESCRIPTION:
URL:https://www.2spbrewing.com/event/live-music-sam-skyler-2/
ATTACH;FMTTYPE=image/png:https://www.2spbrewing.com/wp-content/uploads/2026/01/Live-Music-Story-with-Samanthas-Duo-1.png
END:VEVENT
BEGIN:VEVENT
DTSTART;TZID=UTC:20260425T130000
DTEND;TZID=UTC:20260425T190000
DTSTAMP:20260421T221851
CREATED:20260420T221019Z
LAST-MODIFIED:20260420T221555Z
UID:4553-1777122000-1777143600@www.2spbrewing.com
SUMMARY:Food Truck: Babalouie BBQ
DESCRIPTION:1:00 – 7:00
URL:https://www.2spbrewing.com/event/food-truck-babalouie-bbq-27/
ATTACH;FMTTYPE=image/jpeg:https://www.2spbrewing.com/wp-content/uploads/2021/04/Babalouie-BBQ.jpg
END:VEVENT
BEGIN:VEVENT
DTSTART;VALUE=DATE:20260426
DTEND;VALUE=DATE:20260427
DTSTAMP:20260421T221851
CREATED:20260420T221705Z
LAST-MODIFIED:20260420T221705Z
UID:4555-1777161600-1777247999@www.2spbrewing.com
SUMMARY:15% off delivery from Cocco's
DESCRIPTION:15% off delivery to the brewery on Sunday only
URL:https://www.2spbrewing.com/event/15-off-delivery-from-coccos-2/
ATTACH;FMTTYPE=image/png:https://www.2spbrewing.com/wp-content/uploads/2024/08/Coccos.png
END:VEVENT
BEGIN:VEVENT
DTSTART;TZID=UTC:20260503T120000
DTEND;TZID=UTC:20260503T180000
DTSTAMP:20260421T221851
CREATED:20260420T223122Z
LAST-MODIFIED:20260420T223906Z
UID:4559-1777809600-1777831200@www.2spbrewing.com
SUMMARY:Cinco de Meow
DESCRIPTION:Meowdy\, Delco!\nJoin us Sunday 5/3 (yes\, Tres de Mayo!) for cheers and charity – we’ll be donating 20% of our sales from the entire day to Forgotten Cats Inc. Their mission is to humanely reduce the homeless cat population and to stop the suffering of the thousands of kittens born to abandoned\, homeless cats. They do that by working with a colony of caregivers to humanely trap\, neuter\, vaccinate\, and release (TNVR) every cat within a colony.This year\, we are very happy to announce that FC will be donating proceeds from this event directly to their TNVR (trap\, neuter\, vaccinate\, and return) programs right here in Delco!\nThe great folks from Forgotten Cats will be here with merchandise and raffles all benefiting Forgotten Cats Inc.Also\, limited edition Cinco de Meow t-shirts will go on sale\, and a portion of those sales will also be donated to Forgotten Cats.\n\nLive Music from our friend Rick Choate Acoustic will be here 12:00-3:00 and James Clark 3:00-6:00.\nPhilly Cinco de Mayo and Daddy’s Kitchen will be on site from 1:00-6:00 (or sellout).\n\nWe’re really excited to welcome back Dan Toonz\, a local caricature artist\, to our festivities. Ever wanted a funky portrait of you and your furry best bud? Dan can work directly from a photo of your pet for a unique piece of artwork! Dan Toonz will be on site from 3:00-5:00. Charicatures are first come first serve and there is no charge\, but tips are appreciated.\nTasting Room\, Brewery Warehouse\, and Delco Deck (weather permitting) seating will all be available.\nWe can’t wait to hold this great event again benefiting a cause so close to our hearts around here\n 
URL:https://www.2spbrewing.com/event/cinco-de-meow-4/
ATTACH;FMTTYPE=image/jpeg:https://www.2spbrewing.com/wp-content/uploads/2026/04/Cinco-de-Meow-2025-Reel-Cover.JPG.jpeg
END:VEVENT
END:VCALENDAR