BEGIN:VCALENDAR
VERSION:2.0
PRODID:-//2SP - ECPv6.1.3//NONSGML v1.0//EN
CALSCALE:GREGORIAN
METHOD:PUBLISH
X-WR-CALNAME:2SP
X-ORIGINAL-URL:https://www.2spbrewing.com
X-WR-CALDESC:Events for 2SP
REFRESH-INTERVAL;VALUE=DURATION:PT1H
X-Robots-Tag:noindex
X-PUBLISHED-TTL:PT1H
BEGIN:VTIMEZONE
TZID:UTC
BEGIN:STANDARD
TZOFFSETFROM:+0000
TZOFFSETTO:+0000
TZNAME:UTC
DTSTART:20250101T000000
END:STANDARD
END:VTIMEZONE
BEGIN:VEVENT
DTSTART;TZID=UTC:20250816T090000
DTEND;TZID=UTC:20250816T200000
DTSTAMP:20260419T141903
CREATED:20250811T201931Z
LAST-MODIFIED:20250811T201931Z
UID:3969-1755334800-1755374400@www.2spbrewing.com
SUMMARY:Food Truck: Rollin Phatties BBQ Smokeshack & Burrito Feliz
DESCRIPTION:9:00-1:00 (breakfast) \n 1:00-8:00
URL:https://www.2spbrewing.com/event/food-truck-rollin-phatties-bbq-smokeshack-burrito-feliz/
ATTACH;FMTTYPE=image/jpeg:https://www.2spbrewing.com/wp-content/uploads/2025/08/505364795_1292100322923727_6118591386859011754_n.jpg
END:VEVENT
END:VCALENDAR