BEGIN:VCALENDAR
VERSION:2.0
PRODID:-//2SP - ECPv6.1.3//NONSGML v1.0//EN
CALSCALE:GREGORIAN
METHOD:PUBLISH
X-WR-CALNAME:2SP
X-ORIGINAL-URL:https://www.2spbrewing.com
X-WR-CALDESC:Events for 2SP
REFRESH-INTERVAL;VALUE=DURATION:PT1H
X-Robots-Tag:noindex
X-PUBLISHED-TTL:PT1H
BEGIN:VTIMEZONE
TZID:UTC
BEGIN:STANDARD
TZOFFSETFROM:+0000
TZOFFSETTO:+0000
TZNAME:UTC
DTSTART:20250101T000000
END:STANDARD
END:VTIMEZONE
BEGIN:VEVENT
DTSTART;TZID=UTC:20250726T130000
DTEND;TZID=UTC:20250726T150000
DTSTAMP:20260419T160432
CREATED:20250717T210834Z
LAST-MODIFIED:20250717T211533Z
UID:3922-1753534800-1753542000@www.2spbrewing.com
SUMMARY:Phanatic Embroidery Workshop
DESCRIPTION:it’s Phillies szn  come celebrate with us and our friends from Sippin & Stitchin on Saturday\, July 26th + sip\, stitch and enjoy a different kinda day out as we stitch up Philly’s favorite green dude\ntix include:• an embroidery kit: 5” hoop\, five variations of embroidery thread\, needle and needle-threader and our pre-stamped fabric (yours to keep!) in our canvas bag• two hours of hands-on guidance• lifetime access to our step-by-step video tutorial\nthis class is open to beginners + seasoned stitchers alike  head to the link for more info and to reserve your spot 
URL:https://www.2spbrewing.com/event/phanatic-embroidery-workshop-2/
ATTACH;FMTTYPE=image/jpeg:https://www.2spbrewing.com/wp-content/uploads/2025/07/Sippin-Stitchin-Story.jpg
END:VEVENT
BEGIN:VEVENT
DTSTART;TZID=UTC:20250726T140000
DTEND;TZID=UTC:20250726T200000
DTSTAMP:20260419T160432
CREATED:20250724T201414Z
LAST-MODIFIED:20250724T201414Z
UID:3934-1753538400-1753560000@www.2spbrewing.com
SUMMARY:Food Truck: Philly Cinco de Mayo
DESCRIPTION:2:00-8:00
URL:https://www.2spbrewing.com/event/food-truck-philly-cinco-de-mayo-7/
ATTACH;FMTTYPE=image/jpeg:https://www.2spbrewing.com/wp-content/uploads/2025/02/Philly-Cinco-de-Mayo-logo.jpg
END:VEVENT
END:VCALENDAR