BEGIN:VCALENDAR
VERSION:2.0
PRODID:-//2SP - ECPv6.1.3//NONSGML v1.0//EN
CALSCALE:GREGORIAN
METHOD:PUBLISH
X-ORIGINAL-URL:https://www.2spbrewing.com
X-WR-CALDESC:Events for 2SP
REFRESH-INTERVAL;VALUE=DURATION:PT1H
X-Robots-Tag:noindex
X-PUBLISHED-TTL:PT1H
BEGIN:VTIMEZONE
TZID:UTC
BEGIN:STANDARD
TZOFFSETFROM:+0000
TZOFFSETTO:+0000
TZNAME:UTC
DTSTART:20250101T000000
END:STANDARD
END:VTIMEZONE
BEGIN:VEVENT
DTSTART;TZID=UTC:20250711T170000
DTEND;TZID=UTC:20250711T200000
DTSTAMP:20260420T103312
CREATED:20250624T202757Z
LAST-MODIFIED:20250624T202757Z
UID:3852-1752253200-1752264000@www.2spbrewing.com
SUMMARY:Live Music - Rick Choate Acoustic
DESCRIPTION:
URL:https://www.2spbrewing.com/event/live-music-rick-choate-acoustic-2/
ATTACH;FMTTYPE=image/jpeg:https://www.2spbrewing.com/wp-content/uploads/2025/03/Live-Music-Story-with-Rick-Choate.jpg
END:VEVENT
END:VCALENDAR