BEGIN:VCALENDAR
VERSION:2.0
PRODID:-//2SP - ECPv6.1.3//NONSGML v1.0//EN
CALSCALE:GREGORIAN
METHOD:PUBLISH
X-WR-CALNAME:2SP
X-ORIGINAL-URL:https://www.2spbrewing.com
X-WR-CALDESC:Events for 2SP
REFRESH-INTERVAL;VALUE=DURATION:PT1H
X-Robots-Tag:noindex
X-PUBLISHED-TTL:PT1H
BEGIN:VTIMEZONE
TZID:UTC
BEGIN:STANDARD
TZOFFSETFROM:+0000
TZOFFSETTO:+0000
TZNAME:UTC
DTSTART:20250101T000000
END:STANDARD
END:VTIMEZONE
BEGIN:VEVENT
DTSTART;TZID=UTC:20250703T150000
DTEND;TZID=UTC:20250703T200000
DTSTAMP:20260419T131524
CREATED:20250701T212448Z
LAST-MODIFIED:20250701T225950Z
UID:3885-1751554800-1751572800@www.2spbrewing.com
SUMMARY:4th of July Stock up
DESCRIPTION:Hey Delco – we’re prepped to stock you up for the holiday weekend!\nDeals on all canned beer\nLive Music 5:00-8:00 with @rick.choate.acoustic\nDelicious bites from @daddyscuisine \nBlow off work early and start your holiday weekend with us!
URL:https://www.2spbrewing.com/event/4th-of-july-stock-up/
ATTACH;FMTTYPE=image/jpeg:https://www.2spbrewing.com/wp-content/uploads/2025/07/2SP-Fourth-of-July-Post.jpg
END:VEVENT
BEGIN:VEVENT
DTSTART;TZID=UTC:20250703T160000
DTEND;TZID=UTC:20250703T200000
DTSTAMP:20260419T131524
CREATED:20250701T185322Z
LAST-MODIFIED:20250701T185322Z
UID:3877-1751558400-1751572800@www.2spbrewing.com
SUMMARY:Food Truck: Daddy's Kitchen
DESCRIPTION:4:00-8:00
URL:https://www.2spbrewing.com/event/food-truck-daddys-kitchen-2/
ATTACH;FMTTYPE=image/jpeg:https://www.2spbrewing.com/wp-content/uploads/2024/08/Daddys-Kitchen-3.jpg
END:VEVENT
BEGIN:VEVENT
DTSTART;TZID=UTC:20250703T170000
DTEND;TZID=UTC:20250703T200000
DTSTAMP:20260419T131524
CREATED:20250701T210249Z
LAST-MODIFIED:20250701T210401Z
UID:3883-1751562000-1751572800@www.2spbrewing.com
SUMMARY:Live Music: Rick Choate Acoustic
DESCRIPTION:
URL:https://www.2spbrewing.com/event/live-music-rick-choate-acoustic-3/
ATTACH;FMTTYPE=image/jpeg:https://www.2spbrewing.com/wp-content/uploads/2025/03/Live-Music-Story-with-Rick-Choate.jpg
END:VEVENT
END:VCALENDAR