BEGIN:VCALENDAR
VERSION:2.0
PRODID:-//2SP - ECPv6.1.3//NONSGML v1.0//EN
CALSCALE:GREGORIAN
METHOD:PUBLISH
X-ORIGINAL-URL:https://www.2spbrewing.com
X-WR-CALDESC:Events for 2SP
REFRESH-INTERVAL;VALUE=DURATION:PT1H
X-Robots-Tag:noindex
X-PUBLISHED-TTL:PT1H
BEGIN:VTIMEZONE
TZID:UTC
BEGIN:STANDARD
TZOFFSETFROM:+0000
TZOFFSETTO:+0000
TZNAME:UTC
DTSTART:20250101T000000
END:STANDARD
END:VTIMEZONE
BEGIN:VEVENT
DTSTART;TZID=UTC:20250627T170000
DTEND;TZID=UTC:20250627T190000
DTSTAMP:20260419T184040
CREATED:20250613T172409Z
LAST-MODIFIED:20250613T172410Z
UID:3833-1751043600-1751050800@www.2spbrewing.com
SUMMARY:Live Music: Samantha's Duo
DESCRIPTION:
URL:https://www.2spbrewing.com/event/live-music-samanthas-duo/
ATTACH;FMTTYPE=image/png:https://www.2spbrewing.com/wp-content/uploads/2025/06/Live-Music-Story-with-Samanthas-Duo-1.png
END:VEVENT
END:VCALENDAR