BEGIN:VCALENDAR
VERSION:2.0
PRODID:-//2SP - ECPv6.1.3//NONSGML v1.0//EN
CALSCALE:GREGORIAN
METHOD:PUBLISH
X-ORIGINAL-URL:https://www.2spbrewing.com
X-WR-CALDESC:Events for 2SP
REFRESH-INTERVAL;VALUE=DURATION:PT1H
X-Robots-Tag:noindex
X-PUBLISHED-TTL:PT1H
BEGIN:VTIMEZONE
TZID:UTC
BEGIN:STANDARD
TZOFFSETFROM:+0000
TZOFFSETTO:+0000
TZNAME:UTC
DTSTART:20250101T000000
END:STANDARD
END:VTIMEZONE
BEGIN:VEVENT
DTSTART;VALUE=DATE:20250622
DTEND;VALUE=DATE:20250623
DTSTAMP:20260420T082454
CREATED:20250613T152009Z
LAST-MODIFIED:20250613T152010Z
UID:3829-1750550400-1750636799@www.2spbrewing.com
SUMMARY:Food Truck: FREE Delivery from Amore's Kitchen
DESCRIPTION:Free delivery from Amore’s Kitchen on Sunday to the brewery
URL:https://www.2spbrewing.com/event/food-truck-free-delivery-from-amores-kitchen-7/
ATTACH;FMTTYPE=image/jpeg:https://www.2spbrewing.com/wp-content/uploads/2025/03/Amores-Pizza-logo.jpg
END:VEVENT
BEGIN:VEVENT
DTSTART;TZID=UTC:20250622T080000
DTEND;TZID=UTC:20250622T170000
DTSTAMP:20260420T082454
CREATED:20250622T194308Z
LAST-MODIFIED:20250622T194308Z
UID:3843-1750579200-1750611600@www.2spbrewing.com
SUMMARY:Food Truck: Lunchboxxx
DESCRIPTION:4:00-8:00
URL:https://www.2spbrewing.com/event/food-truck-lunchboxxx-12/
ATTACH;FMTTYPE=image/jpeg:https://www.2spbrewing.com/wp-content/uploads/2024/07/Lunchboxxx-logo.jpg
END:VEVENT
END:VCALENDAR