BEGIN:VCALENDAR
VERSION:2.0
PRODID:-//2SP - ECPv6.1.3//NONSGML v1.0//EN
CALSCALE:GREGORIAN
METHOD:PUBLISH
X-WR-CALNAME:2SP
X-ORIGINAL-URL:https://www.2spbrewing.com
X-WR-CALDESC:Events for 2SP
REFRESH-INTERVAL;VALUE=DURATION:PT1H
X-Robots-Tag:noindex
X-PUBLISHED-TTL:PT1H
BEGIN:VTIMEZONE
TZID:UTC
BEGIN:STANDARD
TZOFFSETFROM:+0000
TZOFFSETTO:+0000
TZNAME:UTC
DTSTART:20250101T000000
END:STANDARD
END:VTIMEZONE
BEGIN:VEVENT
DTSTART;TZID=UTC:20250605T160000
DTEND;TZID=UTC:20250605T200000
DTSTAMP:20260419T170840
CREATED:20250530T192125Z
LAST-MODIFIED:20250530T192125Z
UID:3796-1749139200-1749153600@www.2spbrewing.com
SUMMARY:Food Truck: Philly Cinco de Mayo
DESCRIPTION:4:00-8:00
URL:https://www.2spbrewing.com/event/food-truck-philly-cinco-de-mayo-5/
ATTACH;FMTTYPE=image/jpeg:https://www.2spbrewing.com/wp-content/uploads/2025/02/Philly-Cinco-de-Mayo-logo.jpg
END:VEVENT
END:VCALENDAR