BEGIN:VCALENDAR
VERSION:2.0
PRODID:-//2SP - ECPv6.1.3//NONSGML v1.0//EN
CALSCALE:GREGORIAN
METHOD:PUBLISH
X-WR-CALNAME:2SP
X-ORIGINAL-URL:https://www.2spbrewing.com
X-WR-CALDESC:Events for 2SP
REFRESH-INTERVAL;VALUE=DURATION:PT1H
X-Robots-Tag:noindex
X-PUBLISHED-TTL:PT1H
BEGIN:VTIMEZONE
TZID:UTC
BEGIN:STANDARD
TZOFFSETFROM:+0000
TZOFFSETTO:+0000
TZNAME:UTC
DTSTART:20250101T000000
END:STANDARD
END:VTIMEZONE
BEGIN:VEVENT
DTSTART;TZID=UTC:20250530T160000
DTEND;TZID=UTC:20250530T200000
DTSTAMP:20260419T214941
CREATED:20250530T144257Z
LAST-MODIFIED:20250530T144257Z
UID:3789-1748620800-1748635200@www.2spbrewing.com
SUMMARY:Food Truck: Philly Cinco de Mayo
DESCRIPTION:4:00-8:00
URL:https://www.2spbrewing.com/event/food-truck-philly-cinco-de-mayo-4/
ATTACH;FMTTYPE=image/jpeg:https://www.2spbrewing.com/wp-content/uploads/2025/02/Philly-Cinco-de-Mayo-logo.jpg
END:VEVENT
BEGIN:VEVENT
DTSTART;TZID=UTC:20250530T170000
DTEND;TZID=UTC:20250530T200000
DTSTAMP:20260419T214941
CREATED:20250516T160617Z
LAST-MODIFIED:20250516T162127Z
UID:3750-1748624400-1748635200@www.2spbrewing.com
SUMMARY:Live Music: Acoustic Nicki
DESCRIPTION:
URL:https://www.2spbrewing.com/event/live-music-acoustic-nicki-2/
ATTACH;FMTTYPE=image/jpeg:https://www.2spbrewing.com/wp-content/uploads/2025/01/Live-Music-Story-with-Acoustic-Nicki.jpg
END:VEVENT
END:VCALENDAR