BEGIN:VCALENDAR
VERSION:2.0
PRODID:-//2SP - ECPv6.1.3//NONSGML v1.0//EN
CALSCALE:GREGORIAN
METHOD:PUBLISH
X-ORIGINAL-URL:https://www.2spbrewing.com
X-WR-CALDESC:Events for 2SP
REFRESH-INTERVAL;VALUE=DURATION:PT1H
X-Robots-Tag:noindex
X-PUBLISHED-TTL:PT1H
BEGIN:VTIMEZONE
TZID:UTC
BEGIN:STANDARD
TZOFFSETFROM:+0000
TZOFFSETTO:+0000
TZNAME:UTC
DTSTART:20250101T000000
END:STANDARD
END:VTIMEZONE
BEGIN:VEVENT
DTSTART;TZID=UTC:20250523T160000
DTEND;TZID=UTC:20250523T200000
DTSTAMP:20260423T044504
CREATED:20250517T164052Z
LAST-MODIFIED:20250517T164131Z
UID:3761-1748016000-1748030400@www.2spbrewing.com
SUMMARY:Food Truck: Backcountry Bites
DESCRIPTION:4:00-8:00
URL:https://www.2spbrewing.com/event/food-truck-backcountry-bites-9/
ATTACH;FMTTYPE=image/jpeg:https://www.2spbrewing.com/wp-content/uploads/2024/08/Backcountry-Bites-logo.jpg
END:VEVENT
BEGIN:VEVENT
DTSTART;TZID=UTC:20250523T170000
DTEND;TZID=UTC:20250523T200000
DTSTAMP:20260423T044504
CREATED:20250516T160111Z
LAST-MODIFIED:20250516T160111Z
UID:3748-1748019600-1748030400@www.2spbrewing.com
SUMMARY:Live Music: Kat Rivers
DESCRIPTION:
URL:https://www.2spbrewing.com/event/live-music-kat-rivers/
ATTACH;FMTTYPE=image/png:https://www.2spbrewing.com/wp-content/uploads/2025/04/Live-Music-Story-with-Kat-Rivers.png
END:VEVENT
END:VCALENDAR