BEGIN:VCALENDAR
VERSION:2.0
PRODID:-//2SP - ECPv6.1.3//NONSGML v1.0//EN
CALSCALE:GREGORIAN
METHOD:PUBLISH
X-ORIGINAL-URL:https://www.2spbrewing.com
X-WR-CALDESC:Events for 2SP
REFRESH-INTERVAL;VALUE=DURATION:PT1H
X-Robots-Tag:noindex
X-PUBLISHED-TTL:PT1H
BEGIN:VTIMEZONE
TZID:UTC
BEGIN:STANDARD
TZOFFSETFROM:+0000
TZOFFSETTO:+0000
TZNAME:UTC
DTSTART:20250101T000000
END:STANDARD
END:VTIMEZONE
BEGIN:VEVENT
DTSTART;TZID=UTC:20250504T120000
DTEND;TZID=UTC:20250504T180000
DTSTAMP:20260419T140022
CREATED:20250401T201524Z
LAST-MODIFIED:20250411T170205Z
UID:3649-1746360000-1746381600@www.2spbrewing.com
SUMMARY:Cinco de Meow
DESCRIPTION:Meowdy\, Delco!\nJoin us Sunday 5/4 (yes\, Cuatro de Mayo!) for cheers and charity – we’ll be donating 20% of our sales from the entire day to Forgotten Cats Inc. Their mission is to humanely reduce the homeless cat population and to stop the suffering of the thousands of kittens born to abandoned\, homeless cats. They do that by working with a colony of caregivers to humanely trap\, neuter\, vaccinate\, and release (TNVR) every cat within a colony.This year\, we are very happy to announce that FC will be donating proceeds from this event directly to their TNVR (trap\, neuter\, vaccinate\, and return) programs right here in Delco!\n\nThe great folks from Forgotten Cats will be here with merchandise and raffles all benefiting Forgotten Cats Inc.Also\, limited edition Cinco de Meow t-shirts will go on sale\, and a portion of those sales will also be donated to Forgotten Cats.\n\nLive Music from our friend Rick Choate Acoustic will be here 2:00-5:00\n\nLunchboxxx and Second Helping BBQ will be on site from 1:00-6:00 (or sellout).\n\nThis year – we’re really excited to add Dan Toonz\, a local caricature artist\, to our festivities. Ever wanted a funky portrait of you and your furry best bud? Dan can work directly from a photo of your pet for a unique piece of artwork! Dan Toonz will be on site from 3:00-5:00. Caricatures are first come first serve and there is no charge\, but tips are appreciated. Stay “tooned” for some fun examples of what you can expect!\n\n(All drawings will be in black and white.  Commissioned color art can be coordinated with Dan directly at the event)\n\nTasting Room\, Brewery Warehouse\, and Delco Deck (weather permitting) seating will all be available.\n\nWe can’t wait to hold this great event again benefiting a cause so close to our hearts around here.
URL:https://www.2spbrewing.com/event/cinco-de-meow-3/
ATTACH;FMTTYPE=image/jpeg:https://www.2spbrewing.com/wp-content/uploads/2025/04/Cinco-de-Meow-2025-Story.jpg
END:VEVENT
END:VCALENDAR