BEGIN:VCALENDAR
VERSION:2.0
PRODID:-//2SP - ECPv6.1.3//NONSGML v1.0//EN
CALSCALE:GREGORIAN
METHOD:PUBLISH
X-WR-CALNAME:2SP
X-ORIGINAL-URL:https://www.2spbrewing.com
X-WR-CALDESC:Events for 2SP
REFRESH-INTERVAL;VALUE=DURATION:PT1H
X-Robots-Tag:noindex
X-PUBLISHED-TTL:PT1H
BEGIN:VTIMEZONE
TZID:UTC
BEGIN:STANDARD
TZOFFSETFROM:+0000
TZOFFSETTO:+0000
TZNAME:UTC
DTSTART:20240101T000000
END:STANDARD
END:VTIMEZONE
BEGIN:VEVENT
DTSTART;TZID=UTC:20241221T140000
DTEND;TZID=UTC:20241221T180000
DTSTAMP:20260422T200500
CREATED:20241216T213633Z
LAST-MODIFIED:20241220T171253Z
UID:3384-1734789600-1734804000@www.2spbrewing.com
SUMMARY:Food Truck: Slurp Philly Ramen
DESCRIPTION:2:00-6:00
URL:https://www.2spbrewing.com/event/food-truck-babalouie-bbq-6/
ATTACH;FMTTYPE=image/png:https://www.2spbrewing.com/wp-content/uploads/2024/12/slurpy.png
END:VEVENT
END:VCALENDAR