BEGIN:VCALENDAR
VERSION:2.0
PRODID:-//2SP - ECPv6.1.3//NONSGML v1.0//EN
CALSCALE:GREGORIAN
METHOD:PUBLISH
X-ORIGINAL-URL:https://www.2spbrewing.com
X-WR-CALDESC:Events for 2SP
REFRESH-INTERVAL;VALUE=DURATION:PT1H
X-Robots-Tag:noindex
X-PUBLISHED-TTL:PT1H
BEGIN:VTIMEZONE
TZID:UTC
BEGIN:STANDARD
TZOFFSETFROM:+0000
TZOFFSETTO:+0000
TZNAME:UTC
DTSTART:20240101T000000
END:STANDARD
END:VTIMEZONE
BEGIN:VEVENT
DTSTART;TZID=UTC:20241219T160000
DTEND;TZID=UTC:20241219T200000
DTSTAMP:20260422T004335
CREATED:20241216T212659Z
LAST-MODIFIED:20241216T212736Z
UID:3377-1734624000-1734638400@www.2spbrewing.com
SUMMARY:Food Truck: Rollin Phatties BBQ Smokeshack
DESCRIPTION:4:00-8:00
URL:https://www.2spbrewing.com/event/food-truck-rollin-phatties-bbq-smokeshack-12/
ATTACH;FMTTYPE=image/jpeg:https://www.2spbrewing.com/wp-content/uploads/2024/07/Rollin-Phatties-BBQ-Smokeshack.jpg
END:VEVENT
BEGIN:VEVENT
DTSTART;TZID=UTC:20241219T160000
DTEND;TZID=UTC:20241219T210000
DTSTAMP:20260422T004335
CREATED:20241204T231644Z
LAST-MODIFIED:20241213T162057Z
UID:3339-1734624000-1734642000@www.2spbrewing.com
SUMMARY:Ugly Sweater Party
DESCRIPTION: Don we now our ugly apparel! Join us Thursday 12/19 for our forth annual Ugly Sweater party!Sequins?Bows?Homemade?Hand-me-down?\nShow us what you’ve got and you could go home with a $100 2SP Brewing gift card- staff’s favorite will be chosen at 8:00!Rick Choate Acoustic will be back playing some live music to make spirits bright and Rollin Phatties BBQ Smokehouse will be here to feed your holiday hunger.
URL:https://www.2spbrewing.com/event/ugly-sweater-party-3/
ATTACH;FMTTYPE=image/jpeg:https://www.2spbrewing.com/wp-content/uploads/2024/12/2SP-Ugly-Sweater-Party-Story-1.jpg
END:VEVENT
END:VCALENDAR