BEGIN:VCALENDAR
VERSION:2.0
PRODID:-//2SP - ECPv6.1.3//NONSGML v1.0//EN
CALSCALE:GREGORIAN
METHOD:PUBLISH
X-ORIGINAL-URL:https://www.2spbrewing.com
X-WR-CALDESC:Events for 2SP
REFRESH-INTERVAL;VALUE=DURATION:PT1H
X-Robots-Tag:noindex
X-PUBLISHED-TTL:PT1H
BEGIN:VTIMEZONE
TZID:UTC
BEGIN:STANDARD
TZOFFSETFROM:+0000
TZOFFSETTO:+0000
TZNAME:UTC
DTSTART:20240101T000000
END:STANDARD
END:VTIMEZONE
BEGIN:VEVENT
DTSTART;TZID=UTC:20241218T190000
DTEND;TZID=UTC:20241218T210000
DTSTAMP:20260422T155636
CREATED:20241204T220630Z
LAST-MODIFIED:20241204T225936Z
UID:3334-1734548400-1734555600@www.2spbrewing.com
SUMMARY:Holiday Movie Trivia Night
DESCRIPTION:Get ready for a night of festive fun and friendly competition at our Holiday Movie Trivia Night! \nCome dressed in your favorite holiday gear—ugly sweaters and Santa hats are encouraged! Sip a pint of Coldcock (releasing 12.7) or Letters from Aston (releasing 12.13) while you and your team compete for the win. Whether you’re quoting Buddy the Elf or recalling the Grinch’s heartwarming transformation\, it’s your time to shine. \nSo gather your movie-loving crew and head over for a night of holiday cheer\, great drinks\, and all the movie trivia you can handle!
URL:https://www.2spbrewing.com/event/holiday-movie-trivia-night/
ATTACH;FMTTYPE=image/jpeg:https://www.2spbrewing.com/wp-content/uploads/2024/12/Holiday-Movie-Trivia-Story.jpg
END:VEVENT
END:VCALENDAR