BEGIN:VCALENDAR
VERSION:2.0
PRODID:-//2SP - ECPv6.1.3//NONSGML v1.0//EN
CALSCALE:GREGORIAN
METHOD:PUBLISH
X-ORIGINAL-URL:https://www.2spbrewing.com
X-WR-CALDESC:Events for 2SP
REFRESH-INTERVAL;VALUE=DURATION:PT1H
X-Robots-Tag:noindex
X-PUBLISHED-TTL:PT1H
BEGIN:VTIMEZONE
TZID:UTC
BEGIN:STANDARD
TZOFFSETFROM:+0000
TZOFFSETTO:+0000
TZNAME:UTC
DTSTART:20240101T000000
END:STANDARD
END:VTIMEZONE
BEGIN:VEVENT
DTSTART;VALUE=DATE:20241215
DTEND;VALUE=DATE:20241216
DTSTAMP:20260420T050949
CREATED:20241209T202916Z
LAST-MODIFIED:20241209T202916Z
UID:3356-1734220800-1734307199@www.2spbrewing.com
SUMMARY:Food Truck: 10% off Tom's Delivery
DESCRIPTION:10% off delivery to the brewery on Sunday’s in December only
URL:https://www.2spbrewing.com/event/food-truck-10-off-toms-delivery-2/
ATTACH;FMTTYPE=image/jpeg:https://www.2spbrewing.com/wp-content/uploads/2024/12/Toms-Pizza-logo.jpg
END:VEVENT
END:VCALENDAR