BEGIN:VCALENDAR
VERSION:2.0
PRODID:-//2SP - ECPv6.1.3//NONSGML v1.0//EN
CALSCALE:GREGORIAN
METHOD:PUBLISH
X-ORIGINAL-URL:https://www.2spbrewing.com
X-WR-CALDESC:Events for 2SP
REFRESH-INTERVAL;VALUE=DURATION:PT1H
X-Robots-Tag:noindex
X-PUBLISHED-TTL:PT1H
BEGIN:VTIMEZONE
TZID:UTC
BEGIN:STANDARD
TZOFFSETFROM:+0000
TZOFFSETTO:+0000
TZNAME:UTC
DTSTART:20240101T000000
END:STANDARD
END:VTIMEZONE
BEGIN:VEVENT
DTSTART;VALUE=DATE:20240713
DTEND;VALUE=DATE:20240714
DTSTAMP:20260421T160207
CREATED:20240712T161320Z
LAST-MODIFIED:20240712T161527Z
UID:2902-1720828800-1720915199@www.2spbrewing.com
SUMMARY:Food Truck: BYOF
DESCRIPTION:Bring your own food\, no truck today
URL:https://www.2spbrewing.com/event/food-truck-byof/
END:VEVENT
END:VCALENDAR