BEGIN:VCALENDAR
VERSION:2.0
PRODID:-//2SP - ECPv6.1.3//NONSGML v1.0//EN
CALSCALE:GREGORIAN
METHOD:PUBLISH
X-WR-CALNAME:2SP
X-ORIGINAL-URL:https://www.2spbrewing.com
X-WR-CALDESC:Events for 2SP
REFRESH-INTERVAL;VALUE=DURATION:PT1H
X-Robots-Tag:noindex
X-PUBLISHED-TTL:PT1H
BEGIN:VTIMEZONE
TZID:UTC
BEGIN:STANDARD
TZOFFSETFROM:+0000
TZOFFSETTO:+0000
TZNAME:UTC
DTSTART:20240101T000000
END:STANDARD
END:VTIMEZONE
BEGIN:VEVENT
DTSTART;TZID=UTC:20240328T150000
DTEND;TZID=UTC:20240328T180000
DTSTAMP:20260419T190618
CREATED:20240321T204907Z
LAST-MODIFIED:20240327T195041Z
UID:2668-1711638000-1711648800@www.2spbrewing.com
SUMMARY:$1 Dog Opening Day
DESCRIPTION:*** UPDATE ***\nRain out? Not in Delco! We’ll still be doing $1 Dogs for a season tailgate party!\nAt 4:00\, we’ll be showing the infamous ’08 World Series to send all the good energy to the Phil’s!\n*** *** ***\n\nNo $1 dogs at the Park?\nWe got you\, Delco.\nWe’ll have the game on all the screens including the brewery big screen with the sound way up!\n$1 dogs while supplies last at the Tasting for the Phils season opener is the perfect reason to use up those sick days – we’ll see you here!
URL:https://www.2spbrewing.com/event/1-dog-opening-day/
ATTACH;FMTTYPE=image/png:https://www.2spbrewing.com/wp-content/uploads/2024/03/2SP-Dollar-Dogs-March-2024-Post.png
END:VEVENT
END:VCALENDAR