BEGIN:VCALENDAR
VERSION:2.0
PRODID:-//2SP - ECPv6.1.3//NONSGML v1.0//EN
CALSCALE:GREGORIAN
METHOD:PUBLISH
X-ORIGINAL-URL:https://www.2spbrewing.com
X-WR-CALDESC:Events for 2SP
REFRESH-INTERVAL;VALUE=DURATION:PT1H
X-Robots-Tag:noindex
X-PUBLISHED-TTL:PT1H
BEGIN:VTIMEZONE
TZID:UTC
BEGIN:STANDARD
TZOFFSETFROM:+0000
TZOFFSETTO:+0000
TZNAME:UTC
DTSTART:20230101T000000
END:STANDARD
END:VTIMEZONE
BEGIN:VEVENT
DTSTART;TZID=UTC:20231209T120000
DTEND;TZID=UTC:20231209T200000
DTSTAMP:20260419T131159
CREATED:20230809T145719Z
LAST-MODIFIED:20231209T235756Z
UID:2439-1702123200-1702152000@www.2spbrewing.com
SUMMARY:Winterfest Market
DESCRIPTION:Mark your calendar for this year’s Winterfest!\nOn Saturday 12.9 join us for our second annual Winterfest! \n \nWhat can you expect? \n\nA local vendor market with a variety of products\, goods\, and services from 12-4\nBeer release\nLive music\nGeneral merrymaking!\n\nstay tuned to our social media for all the details!\n\n\nCHECK OUT THIS YEAR’S VENDOR LINEUP!\n     
URL:https://www.2spbrewing.com/event/winterfest-market-2/
ATTACH;FMTTYPE=image/jpeg:https://www.2spbrewing.com/wp-content/uploads/2023/08/Winterfest-2023-FB-Cover-1.jpg
END:VEVENT
END:VCALENDAR