BEGIN:VCALENDAR
VERSION:2.0
PRODID:-//2SP - ECPv6.1.3//NONSGML v1.0//EN
CALSCALE:GREGORIAN
METHOD:PUBLISH
X-WR-CALNAME:2SP
X-ORIGINAL-URL:https://www.2spbrewing.com
X-WR-CALDESC:Events for 2SP
REFRESH-INTERVAL;VALUE=DURATION:PT1H
X-Robots-Tag:noindex
X-PUBLISHED-TTL:PT1H
BEGIN:VTIMEZONE
TZID:UTC
BEGIN:STANDARD
TZOFFSETFROM:+0000
TZOFFSETTO:+0000
TZNAME:UTC
DTSTART:20230101T000000
END:STANDARD
END:VTIMEZONE
BEGIN:VEVENT
DTSTART;TZID=UTC:20230922T170000
DTEND;TZID=UTC:20230922T200000
DTSTAMP:20260420T111829
CREATED:20230519T194431Z
LAST-MODIFIED:20230519T194431Z
UID:2297-1695402000-1695412800@www.2spbrewing.com
SUMMARY:Live Music with Rick Choate Acoustic
DESCRIPTION:
URL:https://www.2spbrewing.com/event/live-music-with-rick-choate-acoustic-6/
END:VEVENT
END:VCALENDAR