BEGIN:VCALENDAR
VERSION:2.0
PRODID:-//2SP - ECPv6.1.3//NONSGML v1.0//EN
CALSCALE:GREGORIAN
METHOD:PUBLISH
X-ORIGINAL-URL:https://www.2spbrewing.com
X-WR-CALDESC:Events for 2SP
REFRESH-INTERVAL;VALUE=DURATION:PT1H
X-Robots-Tag:noindex
X-PUBLISHED-TTL:PT1H
BEGIN:VTIMEZONE
TZID:UTC
BEGIN:STANDARD
TZOFFSETFROM:+0000
TZOFFSETTO:+0000
TZNAME:UTC
DTSTART:20230101T000000
END:STANDARD
END:VTIMEZONE
BEGIN:VEVENT
DTSTART;TZID=UTC:20230827T140000
DTEND;TZID=UTC:20230827T170000
DTSTAMP:20260420T204334
CREATED:20230808T195516Z
LAST-MODIFIED:20230808T195516Z
UID:2409-1693144800-1693155600@www.2spbrewing.com
SUMMARY:Sons of Ben Pints fur Pets
DESCRIPTION:Indulge in drinks\, food\, & back a worthy cause. Exciting raffle prizes await. Join us for an unforgettable event! Spread the word\, bring friends\, & be part of Pints Fur Pets! Support Philly Bully Team & Negril Pup Rescue in making an animal-loving impact. \nPurchase tickets here.
URL:https://www.2spbrewing.com/event/sons-of-ben-pints-fur-pets/
LOCATION:2SP Brewing Company
END:VEVENT
END:VCALENDAR