BEGIN:VCALENDAR
VERSION:2.0
PRODID:-//2SP - ECPv6.1.3//NONSGML v1.0//EN
CALSCALE:GREGORIAN
METHOD:PUBLISH
X-WR-CALNAME:2SP
X-ORIGINAL-URL:https://www.2spbrewing.com
X-WR-CALDESC:Events for 2SP
REFRESH-INTERVAL;VALUE=DURATION:PT1H
X-Robots-Tag:noindex
X-PUBLISHED-TTL:PT1H
BEGIN:VTIMEZONE
TZID:UTC
BEGIN:STANDARD
TZOFFSETFROM:+0000
TZOFFSETTO:+0000
TZNAME:UTC
DTSTART:20230101T000000
END:STANDARD
END:VTIMEZONE
BEGIN:VEVENT
DTSTART;TZID=UTC:20230629T150000
DTEND;TZID=UTC:20230629T210000
DTSTAMP:20260422T094244
CREATED:20230622T180152Z
LAST-MODIFIED:20230623T163000Z
UID:2330-1688050800-1688072400@www.2spbrewing.com
SUMMARY:Sidestream Release
DESCRIPTION:We’re gonna need a bigger cooler…\n  \nOn draft and in cans on Thursday 6.29
URL:https://www.2spbrewing.com/event/sidestream-release/
ATTACH;FMTTYPE=image/jpeg:https://www.2spbrewing.com/wp-content/uploads/2023/06/IMG_20230622_135224_579.jpg
END:VEVENT
END:VCALENDAR