BEGIN:VCALENDAR
VERSION:2.0
PRODID:-//2SP - ECPv6.1.3//NONSGML v1.0//EN
CALSCALE:GREGORIAN
METHOD:PUBLISH
X-ORIGINAL-URL:https://www.2spbrewing.com
X-WR-CALDESC:Events for 2SP
REFRESH-INTERVAL;VALUE=DURATION:PT1H
X-Robots-Tag:noindex
X-PUBLISHED-TTL:PT1H
BEGIN:VTIMEZONE
TZID:UTC
BEGIN:STANDARD
TZOFFSETFROM:+0000
TZOFFSETTO:+0000
TZNAME:UTC
DTSTART:20230101T000000
END:STANDARD
END:VTIMEZONE
BEGIN:VEVENT
DTSTART;TZID=UTC:20230519T080000
DTEND;TZID=UTC:20230519T170000
DTSTAMP:20260423T215051
CREATED:20230519T194052Z
LAST-MODIFIED:20230519T194105Z
UID:2294-1684483200-1684515600@www.2spbrewing.com
SUMMARY:Live Music with Rick Choate Acoustic
DESCRIPTION:
URL:https://www.2spbrewing.com/event/live-music-with-rick-choate-acoustic-5/
END:VEVENT
BEGIN:VEVENT
DTSTART;TZID=UTC:20230519T170000
DTEND;TZID=UTC:20230519T190000
DTSTAMP:20260423T215051
CREATED:20230519T193257Z
LAST-MODIFIED:20230519T193313Z
UID:2284-1684515600-1684522800@www.2spbrewing.com
SUMMARY:Live Music with Rick Choate Acoustic
DESCRIPTION:
URL:https://www.2spbrewing.com/event/live-music-with-rick-choate-acoustic/
END:VEVENT
END:VCALENDAR