BEGIN:VCALENDAR
VERSION:2.0
PRODID:-//2SP - ECPv6.1.3//NONSGML v1.0//EN
CALSCALE:GREGORIAN
METHOD:PUBLISH
X-WR-CALNAME:2SP
X-ORIGINAL-URL:https://www.2spbrewing.com
X-WR-CALDESC:Events for 2SP
REFRESH-INTERVAL;VALUE=DURATION:PT1H
X-Robots-Tag:noindex
X-PUBLISHED-TTL:PT1H
BEGIN:VTIMEZONE
TZID:UTC
BEGIN:STANDARD
TZOFFSETFROM:+0000
TZOFFSETTO:+0000
TZNAME:UTC
DTSTART:20230101T000000
END:STANDARD
END:VTIMEZONE
BEGIN:VEVENT
DTSTART;TZID=UTC:20230505T150000
DTEND;TZID=UTC:20230505T220000
DTSTAMP:20260423T081426
CREATED:20230419T233040Z
LAST-MODIFIED:20230419T233041Z
UID:2255-1683298800-1683324000@www.2spbrewing.com
SUMMARY:Cinco de Meow
DESCRIPTION:Hey all you cool cats and kittens\, Cinco de Meow is back!\nJoin us Friday 5/5 for cheers and charity – we’ll be donating 20% of our sales from the entire day to Forgotten Cats Inc. Their mission is to humanely reduce the homeless cat population and to stop the suffering of the thousands of kittens born to abandoned\, homeless cats. They do that by working with a colony of caregivers to humanely trap\, neuter\, vaccinate\, and release (TNVR) every cat within a colony.\nThe great folks from Forgotten Cats will be here with merchandise and raffles all benefitting Forgotten Cats Inc.\nAlso\, limited edition Cinco de Meow t-shirts will go on sale\, and a portion of those sales will also be donated to Forgotten Cats.\nLive Music from our Friday Rick Choate Acoustic will be here 5:00-8:00\nThe Walking Taco Company and Rollin’ Phatties BBQ will be on site\, so dinner is covered!\nTasting Room\, Brewery Warehouse\, and Delco Deck (weather permitting) seating will all be available.\nWe can’t wait to hold this great event again benefitting a cause so close to our hearts around here.
URL:https://www.2spbrewing.com/event/cinco-de-meow/
ATTACH;FMTTYPE=image/jpeg:https://www.2spbrewing.com/wp-content/uploads/2023/04/Cinco-De-Meow-Post-Teaser.jpg
END:VEVENT
END:VCALENDAR