BEGIN:VCALENDAR
VERSION:2.0
PRODID:-//2SP - ECPv6.1.3//NONSGML v1.0//EN
CALSCALE:GREGORIAN
METHOD:PUBLISH
X-WR-CALNAME:2SP
X-ORIGINAL-URL:https://www.2spbrewing.com
X-WR-CALDESC:Events for 2SP
REFRESH-INTERVAL;VALUE=DURATION:PT1H
X-Robots-Tag:noindex
X-PUBLISHED-TTL:PT1H
BEGIN:VTIMEZONE
TZID:UTC
BEGIN:STANDARD
TZOFFSETFROM:+0000
TZOFFSETTO:+0000
TZNAME:UTC
DTSTART:20230101T000000
END:STANDARD
END:VTIMEZONE
BEGIN:VEVENT
DTSTART;TZID=UTC:20230426T150000
DTEND;TZID=UTC:20230426T210000
DTSTAMP:20260423T052131
CREATED:20230419T224420Z
LAST-MODIFIED:20230419T232641Z
UID:2251-1682521200-1682542800@www.2spbrewing.com
SUMMARY:Phatso's Donut Night
DESCRIPTION:Beer & Phatso’s Donut flight.\nNeed we say more?\nJoin us Wednesday 3:00-sellout for 4 of our beers expertly paired with 4 donuts from our new friends at Phatso’s Bakery.\nRick and his team have been doing small batch\, handcut\, made from scratch baked goods in the heart of downtown Chester since 2001. Delco beers and Delco donuts – ’nuff said.
URL:https://www.2spbrewing.com/event/phatsos-donut-night/
ATTACH;FMTTYPE=image/jpeg:https://www.2spbrewing.com/wp-content/uploads/2023/04/Phatsos-Donuts-Post-2.jpg
END:VEVENT
END:VCALENDAR