BEGIN:VCALENDAR
VERSION:2.0
PRODID:-//2SP - ECPv6.1.3//NONSGML v1.0//EN
CALSCALE:GREGORIAN
METHOD:PUBLISH
X-ORIGINAL-URL:https://www.2spbrewing.com
X-WR-CALDESC:Events for 2SP
REFRESH-INTERVAL;VALUE=DURATION:PT1H
X-Robots-Tag:noindex
X-PUBLISHED-TTL:PT1H
BEGIN:VTIMEZONE
TZID:UTC
BEGIN:STANDARD
TZOFFSETFROM:+0000
TZOFFSETTO:+0000
TZNAME:UTC
DTSTART:20230101T000000
END:STANDARD
END:VTIMEZONE
BEGIN:VEVENT
DTSTART;TZID=UTC:20230330T160000
DTEND;TZID=UTC:20230330T210000
DTSTAMP:20260423T100221
CREATED:20230303T151125Z
LAST-MODIFIED:20230303T151147Z
UID:2213-1680192000-1680210000@www.2spbrewing.com
SUMMARY:$1 Dog Night
DESCRIPTION:Join us for the Phillies home opener! \n$1 Dogs from 4:05-sellout \n$3 All Weather pints all day \nGame on all the screens and the sound way up! \nLet’s Ph*ckin Gooooooooo!
URL:https://www.2spbrewing.com/event/1-dog-night/
ATTACH;FMTTYPE=image/jpeg:https://www.2spbrewing.com/wp-content/uploads/2023/03/Baseball-Bob-3.jpg
END:VEVENT
END:VCALENDAR