BEGIN:VCALENDAR
VERSION:2.0
PRODID:-//2SP - ECPv6.1.3//NONSGML v1.0//EN
CALSCALE:GREGORIAN
METHOD:PUBLISH
X-ORIGINAL-URL:https://www.2spbrewing.com
X-WR-CALDESC:Events for 2SP
REFRESH-INTERVAL;VALUE=DURATION:PT1H
X-Robots-Tag:noindex
X-PUBLISHED-TTL:PT1H
BEGIN:VTIMEZONE
TZID:UTC
BEGIN:STANDARD
TZOFFSETFROM:+0000
TZOFFSETTO:+0000
TZNAME:UTC
DTSTART:20220101T000000
END:STANDARD
END:VTIMEZONE
BEGIN:VEVENT
DTSTART;TZID=UTC:20221231T120000
DTEND;TZID=UTC:20221231T180000
DTSTAMP:20260424T182543
CREATED:20221223T173533Z
LAST-MODIFIED:20221223T211032Z
UID:2163-1672488000-1672509600@www.2spbrewing.com
SUMMARY:New Year's Eve
DESCRIPTION:Open 12:00-6:00 \nRolling Fatties here 1:00-5:00
URL:https://www.2spbrewing.com/event/new-years-eve/
END:VEVENT
END:VCALENDAR