BEGIN:VCALENDAR
VERSION:2.0
PRODID:-//2SP - ECPv6.1.3//NONSGML v1.0//EN
CALSCALE:GREGORIAN
METHOD:PUBLISH
X-ORIGINAL-URL:https://www.2spbrewing.com
X-WR-CALDESC:Events for 2SP
REFRESH-INTERVAL;VALUE=DURATION:PT1H
X-Robots-Tag:noindex
X-PUBLISHED-TTL:PT1H
BEGIN:VTIMEZONE
TZID:UTC
BEGIN:STANDARD
TZOFFSETFROM:+0000
TZOFFSETTO:+0000
TZNAME:UTC
DTSTART:20220101T000000
END:STANDARD
END:VTIMEZONE
BEGIN:VEVENT
DTSTART;TZID=UTC:20221216T173000
DTEND;TZID=UTC:20221216T200000
DTSTAMP:20260424T091957
CREATED:20221111T180901Z
LAST-MODIFIED:20221111T185436Z
UID:2101-1671211800-1671220800@www.2spbrewing.com
SUMMARY:2SP at Rose Tree Festival of Lights
DESCRIPTION:Come check us out at the Delco Chamber of Commerce’s second annual Festival of Lights at Rose tree Park!
URL:https://www.2spbrewing.com/event/2sp-at-rose-tree-festival-of-lights/
LOCATION:Rose Tree Park\, 1671 N Providence Rd\, Media\, 19063\, United States
ATTACH;FMTTYPE=image/png:https://www.2spbrewing.com/wp-content/uploads/2022/11/December-16.png
END:VEVENT
END:VCALENDAR